BEGIN:VCALENDAR
VERSION:2.0
PRODID:-//Stichting Landschapsbeheer Aa dal - ECPv6.15.20//NONSGML v1.0//EN
CALSCALE:GREGORIAN
METHOD:PUBLISH
X-WR-CALNAME:Stichting Landschapsbeheer Aa dal
X-ORIGINAL-URL:https://landschapsbeheer-aa-dal.nl
X-WR-CALDESC:Evenementen voor Stichting Landschapsbeheer Aa dal
REFRESH-INTERVAL;VALUE=DURATION:PT1H
X-Robots-Tag:noindex
X-PUBLISHED-TTL:PT1H
BEGIN:VTIMEZONE
TZID:Europe/Amsterdam
BEGIN:DAYLIGHT
TZOFFSETFROM:+0100
TZOFFSETTO:+0200
TZNAME:CEST
DTSTART:20250330T010000
END:DAYLIGHT
BEGIN:STANDARD
TZOFFSETFROM:+0200
TZOFFSETTO:+0100
TZNAME:CET
DTSTART:20251026T010000
END:STANDARD
BEGIN:DAYLIGHT
TZOFFSETFROM:+0100
TZOFFSETTO:+0200
TZNAME:CEST
DTSTART:20260329T010000
END:DAYLIGHT
BEGIN:STANDARD
TZOFFSETFROM:+0200
TZOFFSETTO:+0100
TZNAME:CET
DTSTART:20261025T010000
END:STANDARD
BEGIN:DAYLIGHT
TZOFFSETFROM:+0100
TZOFFSETTO:+0200
TZNAME:CEST
DTSTART:20270328T010000
END:DAYLIGHT
BEGIN:STANDARD
TZOFFSETFROM:+0200
TZOFFSETTO:+0100
TZNAME:CET
DTSTART:20271031T010000
END:STANDARD
END:VTIMEZONE
BEGIN:VEVENT
DTSTART;TZID=Europe/Amsterdam:20260328T090000
DTEND;TZID=Europe/Amsterdam:20260328T130000
DTSTAMP:20260421T102427
CREATED:20260227T163847Z
LAST-MODIFIED:20260227T163847Z
UID:3175-1774688400-1774702800@landschapsbeheer-aa-dal.nl
SUMMARY:Bloemenproject
DESCRIPTION:Wil je een kleurrijke tuin en bijdragen aan biodiversiteit? Dat kan! Wij delen op 28 maart voor de gemeente gratis bloemzadenmengsels uit. Hiermee help jij de bijen\, vlinders en vogels in je tuin. Wil je een gratis bloemzadenpakket? Meld je dan vóór zondag 15 maart aan via de website van Stichting Landschap Het Groene Woud. Hier vul je in dat je inwoner bent van Sint-Michielsgestel en geef je aan voor hoeveel vierkante meter je de zaden bestelt. Op zaterdag 28 maart kun je de pakketten ophalen van 9.00 tot 13.00 uur op het Mercuriusplein in Berlicum. Vrijwilligers van Landschapsbeheer Aa-dal staan hier voor je klaar. Je kunt bij ons ook informatie krijgen over onze activiteiten\, onze gebieden en hoe je mee kunt doen. Graag tot dan! Het Bloemenproject is een samenwerking tussen Stichting Landschap Het Groene Woud\, gemeente Sint-Michielsgestel\, Natuurgroep Gestel\, Stichting Landschapsbeheer Aa-dal en Het Bloemenproject.
URL:https://landschapsbeheer-aa-dal.nl/evenement/bloemenproject/
LOCATION:Mercuriusplein Berlicum\, Mercuriusplein\, Berlicum
ATTACH;FMTTYPE=image/jpeg:https://landschapsbeheer-aa-dal.nl/wp-content/uploads/2026/02/1-1.jpg
ORGANIZER;CN="Werkgroep Natuur Dichtbij":MAILTO:natuurdichtbij@landschapsbeheer-aa-dal.nl
END:VEVENT
END:VCALENDAR